BEGIN:VCALENDAR
VERSION:2.0
PRODID:-//EPIC - ECPv6.15.20//NONSGML v1.0//EN
CALSCALE:GREGORIAN
METHOD:PUBLISH
X-ORIGINAL-URL:https://epic-smvi.org
X-WR-CALDESC:Events for EPIC
REFRESH-INTERVAL;VALUE=DURATION:PT1H
X-Robots-Tag:noindex
X-PUBLISHED-TTL:PT1H
BEGIN:VTIMEZONE
TZID:America/New_York
BEGIN:DAYLIGHT
TZOFFSETFROM:-0500
TZOFFSETTO:-0400
TZNAME:EDT
DTSTART:20250309T070000
END:DAYLIGHT
BEGIN:STANDARD
TZOFFSETFROM:-0400
TZOFFSETTO:-0500
TZNAME:EST
DTSTART:20251102T060000
END:STANDARD
BEGIN:DAYLIGHT
TZOFFSETFROM:-0500
TZOFFSETTO:-0400
TZNAME:EDT
DTSTART:20260308T070000
END:DAYLIGHT
BEGIN:STANDARD
TZOFFSETFROM:-0400
TZOFFSETTO:-0500
TZNAME:EST
DTSTART:20261101T060000
END:STANDARD
BEGIN:DAYLIGHT
TZOFFSETFROM:-0500
TZOFFSETTO:-0400
TZNAME:EDT
DTSTART:20270314T070000
END:DAYLIGHT
BEGIN:STANDARD
TZOFFSETFROM:-0400
TZOFFSETTO:-0500
TZNAME:EST
DTSTART:20271107T060000
END:STANDARD
END:VTIMEZONE
BEGIN:VEVENT
DTSTART;TZID=America/New_York:20260606T100000
DTEND;TZID=America/New_York:20260606T160000
DTSTAMP:20260423T080751
CREATED:20260421T202113Z
LAST-MODIFIED:20260421T202113Z
UID:10000003-1780740000-1780761600@epic-smvi.org
SUMMARY:EPIC Trailride
DESCRIPTION:
URL:https://epic-smvi.org/event/epic-trailride/
LOCATION:EPIC Plaza\, 3001 Plaza Drive\, Suitland\, MD\, 20747\, United States
ATTACH;FMTTYPE=image/png:https://epic-smvi.org/wp-content/uploads/2026/04/EPIC-Trailride.png
END:VEVENT
END:VCALENDAR